BEGIN:VCALENDAR
VERSION:2.0
PRODID:-//Camp Llena - ECPv5.10.0//NONSGML v1.0//EN
CALSCALE:GREGORIAN
METHOD:PUBLISH
X-WR-CALNAME:Camp Llena
X-ORIGINAL-URL:https://campllena.com
X-WR-CALDESC:Events for Camp Llena
BEGIN:VTIMEZONE
TZID:Australia/Adelaide
BEGIN:STANDARD
TZOFFSETFROM:+1030
TZOFFSETTO:+0930
TZNAME:ACST
DTSTART:20180331T163000
END:STANDARD
BEGIN:DAYLIGHT
TZOFFSETFROM:+0930
TZOFFSETTO:+1030
TZNAME:ACDT
DTSTART:20181006T163000
END:DAYLIGHT
END:VTIMEZONE
BEGIN:VEVENT
DTSTART;TZID=Australia/Adelaide:20180913T100000
DTEND;TZID=Australia/Adelaide:20180913T160000
DTSTAMP:20260420T005308
CREATED:20180827T134234Z
LAST-MODIFIED:20180827T134343Z
UID:255-1536832800-1536854400@campllena.com
SUMMARY:Lectures on Major Themes of Pentateuch
DESCRIPTION:A whole day lecture on major themes of the Five Books of Moses\, Genesis to Deuteronomy. It will cover \n\nCreation\nImago Dei\nTheology of Work\nFall\nPlan of Redemption\nGod Who Wants to Be Known\nGod Who Wants to Dwell With His People\nAtonement in the Old Testament\nPriestly Blessing\nThe Shema\n\nShare this:Click to share on Twitter (Opens in new window)Click to share on Facebook (Opens in new window)\n\n	Related
URL:https://campllena.com/index.php/event/lectures-on-major-themes-of-pentateuch-2/
LOCATION:Philippine International College\, Bayugo Road\, San Isidro\, Antipolo\, Antipolo\, Philippines
CATEGORIES:Biblibal Education
ATTACH;FMTTYPE=image/jpeg:https://campllena.com/wp-content/uploads/2018/08/pentateuch.jpg
END:VEVENT
END:VCALENDAR